BEGIN:VCALENDAR
VERSION:2.0
METHOD:PUBLISH
PRODID:-//hacksw/handcal//NONSGML v1.0//EN
BEGIN:VEVENT
DTSTAMP:20260419T123942Z
DTSTART;VALUE=DATE:20260509
DTEND;VALUE=DATE:20260510
UID:20260508T220000Z-20260509T215959Z-205@zeffeurs.cabreretsprod.com
SUMMARY:Zef @ Caprarola Balla
DESCRIPTION:
X-ALT-DESC;FMTTYPE=text/html:
URL:https://zeffeurs.cabreretsprod.com/zef/?page_id=614&event_id=205&l
 ang=fr
ATTACH:https://zeffeurs.cabreretsprod.com/zef/?page_id=614&event_id=20
 5&lang=fr
LOCATION:Caprarola\, \, Caprarola
END:VEVENT
END:VCALENDAR
